BEGIN:VCALENDAR
VERSION:2.0
PRODID:-//CiviCRM//NONSGML CiviEvent iCal//EN
X-WR-TIMEZONE:America/New_York
METHOD:PUBLISH
BEGIN:VTIMEZONE
TZID:America/New_York
BEGIN:DAYLIGHT
TZOFFSETFROM:-0400
TZOFFSETTO:-0400
TZNAME:EDT
DTSTART:20260727T160000
END:DAYLIGHT
END:VTIMEZONE
BEGIN:VEVENT
UID:CiviCRM_EventID_150_0123e33c73a8c0cf0db86eda7f3b1022@www.vineyardchabad.org
SUMMARY:Jewish Culture Festival 2026
X-ALT-DESC;FMTTYPE=text/html:<!DOCTYPE HTML PUBLIC
  "-//W3C//DTD HTML 3.2//EN"><html><body><p><a href
 ="https://www.vineyardchabad.org/content/festival"
  rel="noreferrer noopener" style="padding:12px 24p
 x\;background-color:#4CAF50\;color:#FFFFFF\;text-d
 ecoration:none\;font-family:sans-serif\;font-size:
 16px\;" target="_blank">Click here to RSVP </a></p
 ></body></html>
DESCRIPTION:Click here to RSVP  (https://www.vineyardchabad.or
 g/content/festival)\n \n 
CATEGORIES:Exhibition
CALSCALE:GREGORIAN
DTSTAMP;TZID=America/New_York:20260727T160000
DTSTART;TZID=America/New_York:20260727T160000
DTEND;TZID=America/New_York:20260727T200000
URL:https://www.vineyardchabad.org/civicrm/event/info?reset=1&id=150
END:VEVENT
END:VCALENDAR
